BEGIN:VCALENDAR
VERSION:2.0
PRODID:-//Biblioteca Pública e Arquivo Regional João José da Graça - ECPv4.9.10//NONSGML v1.0//EN
CALSCALE:GREGORIAN
METHOD:PUBLISH
X-WR-CALNAME:Biblioteca Pública e Arquivo Regional João José da Graça
X-ORIGINAL-URL:https://bparjjg.azores.gov.pt
X-WR-CALDESC:Events for Biblioteca Pública e Arquivo Regional João José da Graça
BEGIN:VTIMEZONE
TZID:Atlantic/Azores
BEGIN:DAYLIGHT
TZOFFSETFROM:-0100
TZOFFSETTO:+0000
TZNAME:+00
DTSTART:20190331T010000
END:DAYLIGHT
BEGIN:STANDARD
TZOFFSETFROM:+0000
TZOFFSETTO:-0100
TZNAME:-01
DTSTART:20191027T010000
END:STANDARD
END:VTIMEZONE
BEGIN:VEVENT
DTSTART;TZID=Atlantic/Azores:20190215T183000
DTEND;TZID=Atlantic/Azores:20190215T200000
DTSTAMP:20260425T180257
CREATED:20190208T120717Z
LAST-MODIFIED:20190507T142915Z
UID:626-1550255400-1550260800@bparjjg.azores.gov.pt
SUMMARY:Lançamento do livro "Arqueologia nos Açores - Uma Breve História"
DESCRIPTION:  \nA Biblioteca Pública e Arquivo Regional João José da Graça promove o lançamento do livro “Arqueologia nos Açores – Uma Breve História” de José Luís Neto\, editado pelo Instituto Açoriano de Cultura\, que irá decorrer no Auditório desta instituição no dia 15 de fevereiro às 18h30. \nA apresentação ficará a cargo do autor. \nA Direção Regional da Cultura informa que este e outros eventos estão disponíveis para consulta na Agenda Cultural do Portal CulturAçores\, no seguinte endereço eletrónico: www.culturacores.azores.gov.pt . \n  \nVeja mais em: Notícias – Lançamento do livro “Arqueologia nos Açores – Uma Breve História” \n\n\n\n\n\n
URL:https://bparjjg.azores.gov.pt/evento/arqueologia-nos-acores/
LOCATION:Auditório da BPARJJG\, Rua Walter Bensaúde\, 14\, Horta\, 9900-142
CATEGORIES:Lançamento de Livros
ATTACH;FMTTYPE=image/jpeg:https://bparjjg.azores.gov.pt/wp-content/uploads/2019/02/Arqueologia-nos-Açores.jpg
ORGANIZER;CN="Biblioteca%20P%C3%BAblica%20e%20Arquivo%20Regional%20Jo%C3%A3o%20Jos%C3%A9%20da%20Gra%C3%A7a":MAILTO:bpar.horta.info@azores.gov.pt
END:VEVENT
END:VCALENDAR