BEGIN:VCALENDAR
VERSION:2.0
PRODID:-//Biblioteca Pública e Arquivo Regional João José da Graça - ECPv4.9.10//NONSGML v1.0//EN
CALSCALE:GREGORIAN
METHOD:PUBLISH
X-WR-CALNAME:Biblioteca Pública e Arquivo Regional João José da Graça
X-ORIGINAL-URL:https://bparjjg.azores.gov.pt
X-WR-CALDESC:Events for Biblioteca Pública e Arquivo Regional João José da Graça
BEGIN:VTIMEZONE
TZID:Atlantic/Azores
BEGIN:DAYLIGHT
TZOFFSETFROM:-0100
TZOFFSETTO:+0000
TZNAME:+00
DTSTART:20220327T010000
END:DAYLIGHT
BEGIN:STANDARD
TZOFFSETFROM:+0000
TZOFFSETTO:-0100
TZNAME:-01
DTSTART:20221030T010000
END:STANDARD
END:VTIMEZONE
BEGIN:VEVENT
DTSTART;TZID=Atlantic/Azores:20220131T080000
DTEND;TZID=Atlantic/Azores:20220131T170000
DTSTAMP:20260426T004337
CREATED:20220201T100051Z
LAST-MODIFIED:20220204T142322Z
UID:10069-1643616000-1643648400@bparjjg.azores.gov.pt
SUMMARY:Documento Histórico do mês - fevereiro
DESCRIPTION:A Direção Regional da Cultura\, através da Biblioteca Pública e Arquivo Regional João José da Graça expõe mais um “Documento Histórico do Mês”\, que estará patente ao público na vitrine da Sala de Leitura da BPARJJG durante o mês de fevereiro de 2022. \nTrata-se do assento de nascimento de António da Silveira Peixoto\, ocorrido em Castelo Branco a 15 de fevereiro de 1737. Emigrado para o Brasil com cerca de 20 anos\, tornou-se um bandeirante ativo na região de Tibaji\, no sertão dos “Campos Gerais”\, atual estado do Paraná\, na região Sul daquele país. \nOs seus feitos encontram-se registados no livro “O bandeirante\, António da Silveira Peixoto\, conquistador de Tibají”\, de António Ferreira de Serpa. Sobre esta personalidade escreveram também\, resumidamente\, Marcelino Lima (“Anais do município da Horta”) e Fernando Faria Ribeiro (“Em dias passados – Figuras\, Instituições e Acontecimentos da História Faialense”). \nA Direção Regional da Cultura informa que este e outros eventos estão disponíveis para consulta na Agenda Cultural do Portal CulturAçores\, no endereço www.culturacores.azores.gov.pt . \n\n\n\n\n\n
URL:https://bparjjg.azores.gov.pt/evento/documento-historico-do-mes-fevereiro-3/
CATEGORIES:Documento Histórico do Mês
ATTACH;FMTTYPE=image/png:https://bparjjg.azores.gov.pt/wp-content/uploads/2022/02/DRAC_fev_72_dochist.png
END:VEVENT
END:VCALENDAR