BEGIN:VCALENDAR
VERSION:2.0
PRODID:-//Biblioteca Pública e Arquivo Regional João José da Graça - ECPv4.9.10//NONSGML v1.0//EN
CALSCALE:GREGORIAN
METHOD:PUBLISH
X-WR-CALNAME:Biblioteca Pública e Arquivo Regional João José da Graça
X-ORIGINAL-URL:https://bparjjg.azores.gov.pt
X-WR-CALDESC:Events for Biblioteca Pública e Arquivo Regional João José da Graça
BEGIN:VTIMEZONE
TZID:Atlantic/Azores
BEGIN:DAYLIGHT
TZOFFSETFROM:-0100
TZOFFSETTO:+0000
TZNAME:+00
DTSTART:20260329T010000
END:DAYLIGHT
BEGIN:STANDARD
TZOFFSETFROM:+0000
TZOFFSETTO:-0100
TZNAME:-01
DTSTART:20261025T010000
END:STANDARD
END:VTIMEZONE
BEGIN:VEVENT
DTSTART;TZID=Atlantic/Azores:20260328T163000
DTEND;TZID=Atlantic/Azores:20260328T173000
DTSTAMP:20260426T032716
CREATED:20260317T124426Z
LAST-MODIFIED:20260408T114639Z
UID:14407-1774715400-1774719000@bparjjg.azores.gov.pt
SUMMARY:“Era uma vez... um sorriso”
DESCRIPTION:A Direção Regional da Cultura\, através da Biblioteca Pública e Arquivo Regional João José da Graça\, irá realizar a atividade “Era uma vez… um sorriso” na Biblioteca Infantil/Ludoteca\, no dia 28 de março\, às 16h30. \nDestinada ao público infantil\, nomeadamente crianças a partir dos 2 anos\, a atividade tem como objetivo reconhecer e expressar emoções básicas. \nAs inscrições podem ser realizadas presencialmente na Biblioteca Infantil/Ludoteca\, através do e-mail infantil-bibliotecahorta.cultura@azores.gov.pt \, ou pelo telefone 292 202 550. \nA Direção Regional da Cultura informa ainda que este e outros eventos estão disponíveis para consulta na Agenda Cultural do Portal CulturAçores\, no endereço: www.culturacores.azores.gov.pt . \n\n\n\n\n\n
URL:https://bparjjg.azores.gov.pt/evento/era-uma-vez-um-sorriso/
LOCATION:Biblioteca Infantil da BPARJJG
CATEGORIES:Biblioteca Infantil
ATTACH;FMTTYPE=image/png:https://bparjjg.azores.gov.pt/wp-content/uploads/2026/04/imagem-1.png
ORGANIZER;CN="Biblioteca%20P%C3%BAblica%20e%20Arquivo%20Regional%20Jo%C3%A3o%20Jos%C3%A9%20da%20Gra%C3%A7a":MAILTO:bpar.horta.info@azores.gov.pt
END:VEVENT
END:VCALENDAR