BEGIN:VCALENDAR
VERSION:2.0
PRODID:-//Biblioteca Pública e Arquivo Regional João José da Graça - ECPv4.9.10//NONSGML v1.0//EN
CALSCALE:GREGORIAN
METHOD:PUBLISH
X-WR-CALNAME:Biblioteca Pública e Arquivo Regional João José da Graça
X-ORIGINAL-URL:https://bparjjg.azores.gov.pt
X-WR-CALDESC:Events for Biblioteca Pública e Arquivo Regional João José da Graça
BEGIN:VTIMEZONE
TZID:Atlantic/Azores
BEGIN:DAYLIGHT
TZOFFSETFROM:-0100
TZOFFSETTO:+0000
TZNAME:+00
DTSTART:20190331T010000
END:DAYLIGHT
BEGIN:STANDARD
TZOFFSETFROM:+0000
TZOFFSETTO:-0100
TZNAME:-01
DTSTART:20191027T010000
END:STANDARD
END:VTIMEZONE
BEGIN:VEVENT
DTSTART;VALUE=DATE:20190418
DTEND;VALUE=DATE:20190501
DTSTAMP:20260426T010001
CREATED:20190410T094222Z
LAST-MODIFIED:20190507T150232Z
UID:1709-1555545600-1556668799@bparjjg.azores.gov.pt
SUMMARY:Dia Internacional dos Monumentos e Sítios
DESCRIPTION:No âmbito das comemorações do Dia Internacional dos Monumentos e Sítios a Biblioteca Pública da Horta realiza uma “Mostra Bibliográfica” para assinalar esta data\, a qual estará patente ao público na Sala de Leitura da Biblioteca Pública e Arquivo Regional José João da Graça\, a partir de 18 de abril\, de segunda a sexta-feira das 9:00h às 19:00h e sábado das 14:00h às 19:00h. \nA Direção Regional da Cultura informa que este e outros eventos estão disponíveis para consulta na Agenda Cultural do Portal CulturAçores\, no seguinte endereço eletrónico: www.culturacores.azores.gov.pt . \n  \nVeja mais em: Notícias – Mostra Bibliográfica Dia Internacional dos Monumentos e Sítios \n
URL:https://bparjjg.azores.gov.pt/evento/dia-internacional-dos-monumentos-e-sitios/
LOCATION:Sala de Leitura da BPARJJG
CATEGORIES:Datas Comemorativas
ATTACH;FMTTYPE=image/jpeg:https://bparjjg.azores.gov.pt/wp-content/uploads/2019/04/Monumentos-DRAC.jpg
ORGANIZER;CN="Biblioteca%20P%C3%BAblica%20e%20Arquivo%20Regional%20Jo%C3%A3o%20Jos%C3%A9%20da%20Gra%C3%A7a":MAILTO:bpar.horta.info@azores.gov.pt
END:VEVENT
BEGIN:VEVENT
DTSTART;VALUE=DATE:20190422
DTEND;VALUE=DATE:20190428
DTSTAMP:20260426T010001
CREATED:20190415T100303Z
LAST-MODIFIED:20190507T145336Z
UID:1721-1555891200-1556409599@bparjjg.azores.gov.pt
SUMMARY:25 de abril de 1974
DESCRIPTION:No âmbito das comemorações da “Revolução do 25 de abril”\, a Biblioteca Pública da Horta apresenta uma Mostra Bibliográfica sobre o “25 de abril de 1974”\, que estará patente ao público na Sala de Leitura da Biblioteca Pública e Arquivo Regional José João da Graça\, de 22 a 27 de abril\, de segunda a sexta-feira das 9:00h às 19:00h e no sábado das 14:00h às 19:00h. \nA Direção Regional da Cultura informa que este e outros eventos estão disponíveis para consulta na Agenda Cultural do Portal CulturAçores\, no seguinte endereço eletrónico: www.culturacores.azores.gov.pt . \n  \nVeja mais em: Notícias – 25 de abril de 1974 \n
URL:https://bparjjg.azores.gov.pt/evento/25-de-abril-de-1974/
LOCATION:Sala de Leitura da BPARJJG
CATEGORIES:Datas Comemorativas
ATTACH;FMTTYPE=image/jpeg:https://bparjjg.azores.gov.pt/wp-content/uploads/2019/04/25-de-abril-19-DRAC.jpg
ORGANIZER;CN="Biblioteca%20P%C3%BAblica%20e%20Arquivo%20Regional%20Jo%C3%A3o%20Jos%C3%A9%20da%20Gra%C3%A7a":MAILTO:bpar.horta.info@azores.gov.pt
END:VEVENT
BEGIN:VEVENT
DTSTART;VALUE=DATE:20190423
DTEND;VALUE=DATE:20190501
DTSTAMP:20260426T010001
CREATED:20190415T095859Z
LAST-MODIFIED:20190507T145636Z
UID:1718-1555977600-1556668799@bparjjg.azores.gov.pt
SUMMARY:Dia Mundial do Livro e dos Direitos do Autor
DESCRIPTION:No âmbito das comemorações do Dia Mundial do Livro\, a Biblioteca Pública e Arquivo Regional João José da Graça vai realizar as seguintes atividades: \n– “Maratona de Leituras” que irá decorrer no Auditório da Biblioteca\, no dia 23 de abril\, das 9:00h às 17:00h\, dirigida a toda a comunidade faialense e com a participação especial das seguintes entidades: Escola Secundária Manuel de Arriaga\, Escola Básica e Integrada da Horta\, Escola Profissional da Horta\, Universidade Sénior do Faial\, Centro de Atividades Ocupacionais da Santa Casa da Misericórdia\, APADIF e Comunidade de Leitores “Chá com Livros”. \n– “Mostra Bibliográfica” de “Grandes obras da literatura universal”\, patente ao público na Sala de Leitura da Biblioteca a partir de 23 de abril; \nA Direção Regional da Cultura informa que este e outros eventos estão disponíveis para consulta na Agenda Cultural do Portal CulturAçores\, no seguinte endereço eletrónico: www.culturacores.azores.gov.pt . \n  \nVeja mais em: Notícias – Mostra Bibliográfica Dia Mundial do Livro \n
URL:https://bparjjg.azores.gov.pt/evento/dia-mundial-do-livro-e-dos-direitos-do-autor/
LOCATION:Sala de Leitura da BPARJJG
CATEGORIES:Datas Comemorativas
ATTACH;FMTTYPE=image/jpeg:https://bparjjg.azores.gov.pt/wp-content/uploads/2019/04/Grandes-obras-DRAC.jpg
ORGANIZER;CN="Biblioteca%20P%C3%BAblica%20e%20Arquivo%20Regional%20Jo%C3%A3o%20Jos%C3%A9%20da%20Gra%C3%A7a":MAILTO:bpar.horta.info@azores.gov.pt
END:VEVENT
BEGIN:VEVENT
DTSTART;TZID=Atlantic/Azores:20190423T090000
DTEND;TZID=Atlantic/Azores:20190423T170000
DTSTAMP:20260426T010001
CREATED:20190415T095353Z
LAST-MODIFIED:20190507T145516Z
UID:1715-1556010000-1556038800@bparjjg.azores.gov.pt
SUMMARY:Dia Mundial do Livro e dos Direitos de Autor
DESCRIPTION:No âmbito das comemorações do Dia Mundial do Livro\, a Biblioteca Pública e Arquivo Regional João José da Graça vai realizar as seguintes atividades: \n– “Maratona de Leituras” que irá decorrer no Auditório da Biblioteca\, no dia 23 de abril\, das 9:00h às 17:00h\, dirigida a toda a comunidade faialense e com a participação especial das seguintes entidades: Escola Secundária Manuel de Arriaga\, Escola Básica e Integrada da Horta\, Escola Profissional da Horta\, Universidade Sénior do Faial\, Centro de Atividades Ocupacionais da Santa Casa da Misericórdia\, APADIF e Comunidade de Leitores “Chá com Livros”. \n– “Mostra Bibliográfica” de “Grandes obras da literatura universal”\, patente ao público na Sala de Leitura da Biblioteca a partir de 23 de abril; \nA Direção Regional da Cultura informa que este e outros eventos estão disponíveis para consulta na Agenda Cultural do Portal CulturAçores\, no seguinte endereço eletrónico: www.culturacores.azores.gov.pt . \n  \nVeja mais em: Notícias – Maratona de Leituras \n
URL:https://bparjjg.azores.gov.pt/evento/dia-mundial-do-livro-e-dos-direitos-de-autor/
LOCATION:Auditório da BPARJJG\, Rua Walter Bensaúde\, 14\, Horta\, 9900-142
CATEGORIES:Datas Comemorativas
ATTACH;FMTTYPE=image/jpeg:https://bparjjg.azores.gov.pt/wp-content/uploads/2019/04/Maratona-DRAC.jpg
ORGANIZER;CN="Biblioteca%20P%C3%BAblica%20e%20Arquivo%20Regional%20Jo%C3%A3o%20Jos%C3%A9%20da%20Gra%C3%A7a":MAILTO:bpar.horta.info@azores.gov.pt
END:VEVENT
END:VCALENDAR